BEGIN:VCALENDAR
VERSION:2.0
PRODID:-//veloria.tezeren.net - ECPv6.15.16//NONSGML v1.0//EN
CALSCALE:GREGORIAN
METHOD:PUBLISH
X-WR-CALNAME:veloria.tezeren.net
X-ORIGINAL-URL:https://veloria.tezeren.net
X-WR-CALDESC:veloria.tezeren.net için etkinlikler
REFRESH-INTERVAL;VALUE=DURATION:PT1H
X-Robots-Tag:noindex
X-PUBLISHED-TTL:PT1H
BEGIN:VTIMEZONE
TZID:Europe/Istanbul
BEGIN:STANDARD
TZOFFSETFROM:+0300
TZOFFSETTO:+0300
TZNAME:+03
DTSTART:20250101T000000
END:STANDARD
END:VTIMEZONE
BEGIN:VEVENT
DTSTART;VALUE=DATE:20260518
DTEND;VALUE=DATE:20260608
DTSTAMP:20260423T234225
CREATED:20251209T100036Z
LAST-MODIFIED:20251209T100036Z
UID:1120-1779062400-1780876799@veloria.tezeren.net
SUMMARY:Veloria-Club VIP Roland-Garros Paris 2026 Butik Turu
DESCRIPTION:  \n🎾 Veloria-Club VIP Roland-Garros Paris 2026 Butik Turu\n3 Gece / 4 Gün – Mayıs / Haziran 2026\nGrand Slam atmosferi\, Paris’in zarafeti ve lüks konfor tek bir VIP deneyimde buluşuyor.\nDünyanın en prestijli tenis turnuvalarından biri olan Roland-Garros\, Paris’te toprak kortun büyüsünü\, sporun elit ruhunu ve uluslararası prestiji bir araya getirir. Ünlü sporcuları canlı izleme fırsatı\, kırmızı toprak sahaların heyecanı\, Paris’in yaz enerjisi ve Veloria-Club ayrıcalıklarıyla birleştiğinde bu tur\, spor ve lüks yaşam tarzının mükemmel bir sentezine dönüşür. \nVeloria-Club’ın 2026 VIP Butik Turu\, sınırlı kontenjanla sunulan özel bir tenis & Paris deneyimi olarak tasarlanmıştır. \n\n🌟 TURUN ÖNE ÇIKAN VIP AYRICALIKLARI\n\nRoland-Garros 2026 için VIP / Premium court biletleri\nAna kortlarda (Philippe-Chatrier / Suzanne-Lenglen) canlı maç izleme\nTurnuva alanında özel lounge erişimi (pakete bağlı)\nParis merkezde 5★ lüks otelde konaklama\nVIP karşılama & özel araç transferleri\nParis’te gastronomi odaklı şehir turu\nSeine Nehri’nde akşam yemeği (opsiyonel)\nVeloria-Club butik grup (10–14 kişi)\nProfesyonel fotoğraf & video çekimi\nConcierge rezervasyon desteği (Michelin restoranlar\, özel etkinlikler)\n\n\n📆 GÜN GÜN DETAYLI PROGRAM\n\n1. Gün – Paris’e Varış & Veloria-Club Hoş Geldiniz Karşılama\n✈ VIP Havalimanı Karşılama\nParis Charles de Gaulle’de özel karşılama ve lüks araçla şehir merkezine transfer. \n🏨 5★ Lüks Otel Check-in\nSaint-Germain\, Opera veya Champs-Élysées bölgesinde seçkin konaklama. \n🌆 Paris Tanıtım Yürüyüşü\nRehberiniz eşliğinde: \n\nSeine kıyıları\nNotre-Dame çevresi\nSaint-Germain sokakları\nParis’te tenis kültürünün izleri\n\n🍷 Hoş Geldiniz Kokteyli\nŞarap & peynir tadımıyla keyifli bir Paris akşam başlangıcı. \nGece serbest: Paris ışıkları\, yaz atmosferi ve şehirle ilk temas… \n\n2. Gün – Roland-Garros Maç Günü & VIP Turnuva Deneyimi\n🍽 Lüks Kahvaltı\n🎾 Roland-Garros’a Özel Transfer\n🎟 VIP / Premium Biletlerle Maç İzleme\nSeçenekler: \n\nPhilippe-Chatrier Court (Ana kort – büyük maçlar)\nSuzanne-Lenglen Court\nKategori 1 – Gölgeli tribün seçenekleri\n\n🥂 VIP Lounge Erişimi (pakete bağlı)\n\nKarşılama içecekleri\nGurme ikramlar\nÖzel dinlenme alanları\nFan shop öncelikli erişim\n\n📸 Turnuva Alanında Fotoğraf Molaları\nTenis köyü\, sponsor alanları\, oyuncu anıtları. \n🌃 Akşam: Gastronomi Deneyimi\nLatin Mahallesi veya Marais’te seçkin bir Fransız brasserie’sinde grup yemeği (isteğe bağlı). \nGece serbest: Paris gece hayatı\, hafif yürüyüşler\, Seine kıyısında canlı müzik… \n\n3. Gün – Paris Kültür & Lezzet Turu + İsteğe Bağlı Final Maçları\n🌅 Sabah Serbest\nOtel spa\, Paris alışverişi veya fotoğraf yürüyüşü. \n\n🗼 Boutique Paris Turumuz\nVeloria-Club’ın özel hazırladığı “Paris & Lüks Yaşam” rotası: \n\nPalais Royal bahçeleri\nLouvre çevresi\nMarais butik pasajları\nOpera Garnier dış tanıtım\nYerel pastane ve gurme tadım molaları\n\n\n🎾 İsteğe Bağlı: Final Maçları Bileti\nTurnuva programına göre: \n\nKadınlar yarı final / final\nErkekler yarı final / final\nDoubles final seçenekleri\n\n(Veloria-Club concierge ekibi\, üyelere en uygun tribün seçimi konusunda destek sağlar.) \n\n🌙 Akşam: Seine Nehri’nde Akşam Yemeği (Opsiyonel)\n\nCanlı müzik\nParis manzarası\nEyfel Kulesi ışık gösterisi\nRomantik ve zarif atmosfer\n\nGece: Turnuva kutlaması – Paris yaz gecesi. \n\n4. Gün – Paris’e Veda & Dönüş\n☕ Son Paris Sabahı\nButik alışveriş\, kahve molası veya Tuileries Bahçesi’nde kısa yürüyüş. \n✈ VIP Transfer ile Havalimanına Gidiş\nRoland-Garros’un heyecanı ve Paris zarafetiyle dolu unutulmaz bir yolculuğun ardından dönüş. \n\n🏨 KONAKLAMA\nVeloria-Club seçkisi 5★ oteller: \n\nHotel Lutetia – Saint-Germain\nLe Meurice – Dorchester Collection\nSofitel Le Scribe – Opera\nHôtel du Louvre – The Unbound Collection\n\nOda kategorileri: Deluxe – Premium – Junior Suite (müsaitliğe bağlı) \n\n💼 FİYATA DAHİL OLANLAR\n\n3 gece 5★ otel konaklaması\nGünlük kahvaltı\nHavalimanı VIP transferleri\nRoland-Garros premium biletleri (pakete göre)\nTurnuva rehberliği\nParis boutique city walk\nProfesyonel fotoğraf çekimi\nVeloria-Club hostesi\n\n\n❌ FİYATA DAHİL OLMAYANLAR\n\nUçak biletleri\nÖzel yemekler\nFinal maçları biletleri (isteğe bağlı yükseltme)\nTekne turu\nKişisel harcamalar\nSeyahat sağlık sigortası\n\n\n🌟 Neden Veloria-Club’ın Roland-Garros VIP Turu?\n\nSınırlı kontenjanlı butik grup\nEn prestijli tenis biletlerine erişim\nParis’in kültürel\, gastronomik ve estetik yönünü keşfetme\nLüks\, güvenli ve konforlu bir seyahat planlaması\nProfesyonel rehberlik + fotoğraf & concierge desteği\nSpor & yaşam tarzını bir arada sunan premium deneyim
URL:https://veloria.tezeren.net/index.php/event/veloria-club-vip-roland-garros-paris-2026-butik-turu/
CATEGORIES:Gezi & Seyahat,Spor & Fitness,Yemek & Eğlence
ATTACH;FMTTYPE=image/png:https://veloria.tezeren.net/wp-content/uploads/2025/12/tezeren_Roland-Garros_center_court_red_clay_texture_stylish_s_7bbdca21-2f05-4520-b92e-841a399462d1_1.png
END:VEVENT
BEGIN:VEVENT
DTSTART;VALUE=DATE:20260619
DTEND;VALUE=DATE:20260623
DTSTAMP:20260423T234225
CREATED:20251208T111704Z
LAST-MODIFIED:20251208T121514Z
UID:1057-1781827200-1782172799@veloria.tezeren.net
SUMMARY:Özel VIP Paris – Fête de la Musique Butik Gezisi 2026 @ Paris
DESCRIPTION:🎵 Veloria-Club VIP Paris – Fête de la Musique Turu 2026\n3 Gece / 4 Gün – Haziran 2026\nParis’in ritmini\, sokakların enerjisini ve yazın büyüsünü VIP ayrıcalıklarla yaşayın.\nHer yıl 21 Haziran’da düzenlenen Fête de la Musique\, Paris’i dev bir açık hava müzik festivaline dönüştürür. Binlerce sanatçının sokaklarda\, meydanlarda\, köprülerde ve tarihi binaların önünde ücretsiz konserler verdiği bu büyülü gece\, yalnızca bir festival değil\, Paris’in ruhunun müzikle bütünleştiği bir yaşam deneyimidir. \nVeloria-Club olarak hazırladığımız bu VIP butik tur; müzik\, sanat\, gastronomi ve Paris zarafetini birleştirerek\, üyelerimize unutulmayacak bir yaz kaçamağı sunuyor. \n\n\n🌟 TURUN ÖNE ÇIKAN AYRICALIKLARI\n\nParis merkezde 5★ lüks otelde konaklama\nFête de la Musique VIP rotası & rehberliği\nÖzel rooftop / lounge müzik etkinliklerine erişim\nSeine Nehri üzerinde özel akşam yemeği tekne turu (seçenekli)\nParis’in gizli pasajları\, butikleri ve sanat noktalarında boutique city walk\nMichelin tavsiyeli restoranlarda rezervasyon desteği\nVeloria-Club profesyonel hostesi\n5-10 kişilik butik grup\nFotoğraf & video anı çekimi\nVIP araç ile havalimanı transferleri\n\n\n📆 GÜN GÜN DETAYLI PROGRAM\n\n1. Gün – Paris’e Varış & Işıklı Şehrin Ritmine İlk Adım\n✈ VIP Karşılama & Transfer\nParis Charles de Gaulle Havalimanı’nda özel karşılama ve VIP araçla otele transfer. \n🏨 Lüks 5★ Otelde Check-in\nLe Marais\, Saint-Germain veya Opera bölgesinde bulunan seçkin oteller. \n🌆 Paris Sokaklarında Tanıtım Yürüyüşü\nRehberiniz eşliğinde: \n\nSeine Nehri kıyıları\nNotre Dame çevresi\nLatin Mahallesi’nin müzikal atmosferi\nŞehrin festival hazırlıkları\n\n🍷 Hoş Geldiniz Aperitifi\nBir Parisian bistro’da şarap & peynir tadımı ile ilk günün keyifli kapanışı. \nGece serbest: Paris sokaklarında hafif yürüyüş\, Seine kıyısında yaz esintisi… \n\n2. Gün – Paris Kültür & Sanat Rotaları + Fête de la Musique Hazırlığı\n🍽 Otelde Lüks Kahvaltı\n🎨 Boutique City Walk – Gizli Paris\nVeloria-Club’ın özel hazırlanmış “sanat & yaşam rotası”: \n\nPalais Royal ve gizli bahçeleri\nGalerie Vivienne & tarihi pasajlar\nOpera Garnier dıştan tanıtım\nMarais’in tasarım butikleri\nSokak müzisyenlerinin prova alanları\n\n🍽 Öğle: Önerilen Gastronomi Deneyimi\n(Rezervasyon desteği: Le Procope\, Le Train Bleu\, Bistrot Paul Bert vb.) \n📸 Profesyonel Fotoğraf Çekimi\nParis’in ikonik noktalarında kişisel/ grup fotoğrafları. \n🌃 Akşam: Işıklar Altında Paris\nMontmartre tepelerinde sunset gezisi + şarap molası. \nGece serbest: Ertesi günkü büyük festival için Paris sokakları hazırlıkla hareketlenir. \n\n3. Gün – Fête de la Musique 2026 – Paris Bir Müzik Şehrine Dönüşüyor\n🌅 Rahat Bir Sabah\nOtelin spa veya lounge alanında dinlenme\, alışveriş zamanı veya Seine kıyısında yürüyüş. \n\n🎼 Öğleden Sonra – Fête de la Musique VIP Rotası\nRehberinizle özel rotamız: \n\nSaint-Germain caz sahnesi\nLe Marais indie ve pop sokak konserleri\nBastille elektronik müzik alanları\nSeine üzerindeki köprü performansları\nLatin Quarter akustik sahneleri\n\nBinlerce sanatçının eş zamanlı performans gösterdiği bu büyük etkinlikte\, VIP program sayesinde en iyi performanslara en rahat erişim. \n\n🎉 Akşam – Festival Gecesi Büyük Finali\nSeçenekli ek deneyimler: \n🔸 VIP Rooftop Müzik Partisi\nEşsiz Paris manzarası eşliğinde canlı DJ performansları. \n🔸 Seine Nehri’nde Özel Akşam Yemeği Tekne Turu\n\nCanlı müzik\nŞarap eşleşmeli gurme menü\nEiffel Kulesi ışık gösterisi eşliğinde büyülü bir atmosfer\n\n🔸 Quartier Latin’de Sokak Dansı Deneyimi\nParis’in en hareketli bölgelerinden birinde festival coşkusu. \n\n🌙 Gece – Festival Sonrası Paris\nMüzik şehrin her köşesinde devam eder…\nVeloria-Club hostesi grup için yönlendirme sağlar. \n\n4. Gün – Paris’e Veda & Dönüş\n☕ Son Paris Sabahı\nPastanelerde kahvaltı\, butik alışveriş veya Seine kıyısında fotoğraf molası. \n✈ VIP Transfer ile Havalimanına Gidiş\nUnutulmaz bir şehir\, müzik dolu bir gece\, Veloria-Club ayrıcalığıyla biten lüks bir seyahat. \n\n🏨 KONAKLAMA SEÇENEKLERİ\nVeloria-Club seçkisi 5★ oteller: \n\nHotel Lutetia (Saint-Germain)\nHotel Le Meurice\nSofitel Le Scribe Opera\nHôtel du Louvre – The Unbound Collection\n\nOda seçenekleri: Deluxe – Premium – Junior Suite \n\n💼 FİYATA DAHİL OLANLAR\n\n3 gece 5★ otelde konaklama\nGünlük kahvaltı\nVIP araç transferleri\nFestival rehberliği\nBoutique city walk\nProfesyonel fotoğraf çekimi\nVeloria-Club concierge desteği\nVIP grup yönetimi\n\n\n❌ FİYATA DAHİL OLMAYANLAR\n\nUçak biletleri\nÖzel yemekler\nTekne turu & VIP rooftop etkinlik biletleri\nKişisel harcamalar\nSeyahat sigortası\n\n\n🌟 Veloria-Club ile Fête de la Musique’i yaşayın…\nParis’in ritmini\, yazın heyecanını ve sokakların özgür ruhunu elit bir deneyime dönüştürün.
URL:https://veloria.tezeren.net/index.php/event/ozel-vip-paris-fete-de-la-musique-butik-gezisi-2026-paris/
CATEGORIES:Gezi & Seyahat,Kültür & Sanat,Yemek & Eğlence
ATTACH;FMTTYPE=image/png:https://veloria.tezeren.net/wp-content/uploads/2025/12/tezeren_Paris_street_concert_on_June_evening_musicians_perfor_102f9490-e6f0-462e-b05d-366195e7eb29_0.png
END:VEVENT
END:VCALENDAR