BEGIN:VCALENDAR
VERSION:2.0
PRODID:-//veloria.tezeren.net - ECPv6.15.16//NONSGML v1.0//EN
CALSCALE:GREGORIAN
METHOD:PUBLISH
X-WR-CALNAME:veloria.tezeren.net
X-ORIGINAL-URL:https://veloria.tezeren.net
X-WR-CALDESC:veloria.tezeren.net için etkinlikler
REFRESH-INTERVAL;VALUE=DURATION:PT1H
X-Robots-Tag:noindex
X-PUBLISHED-TTL:PT1H
BEGIN:VTIMEZONE
TZID:Europe/Istanbul
BEGIN:STANDARD
TZOFFSETFROM:+0300
TZOFFSETTO:+0300
TZNAME:+03
DTSTART:20250101T000000
END:STANDARD
END:VTIMEZONE
BEGIN:VEVENT
DTSTART;VALUE=DATE:20260512
DTEND;VALUE=DATE:20260524
DTSTAMP:20260423T234542
CREATED:20251208T105703Z
LAST-MODIFIED:20251208T105703Z
UID:1054-1778544000-1779580799@veloria.tezeren.net
SUMMARY:VIP Cannes Film Festivali Butik Gezisi 2026 @ Cannes
DESCRIPTION:🎬 Veloria-Club VIP Cannes Film Festivali Butik Turu 2026\n3 Gece / 4 Gün – Mayıs 2026\nKırmızı halıda\, yıldızlarla aynı atmosferde geçen ayrıcalıklı bir festival deneyimi\nDünyanın en prestijli sinema etkinliği olan Cannes Film Festivali\, her yıl Mayıs ayında Fransız Rivierası’nı büyülü bir sahneye dönüştürür. Kırmızı halı törenleri\, gala gösterimleri\, ünlülerle dolu sokaklar\, lüks yatlar ve sofistike sahil atmosferi…\nVeloria-Club olarak hazırladığımız 2026 VIP Butik Cannes Film Festivali Turu\, üyelerimize hayatlarında bir kez yaşayabilecekleri eşsiz bir festival deneyimi sunmayı hedefler. \nBu özel program\, sıradan bir tur değil; sınırlı kontenjanlı\, yüksek standartlı\, lüks bir kültür & yaşam tarzı deneyimidir. \n\n🌟 TURUN ÖNE ÇIKAN AYRICALIKLARI\n\nCroisette sahilinde 5★ lüks otelde konaklama\nFestival dönemine özel VIP karşılama ve rehberlik\nKırmızı halı atmosferini yaşama fırsatı\nSahil boyunca ünlülerin yoğun olarak bulunduğu alanlarda yürüyüş deneyimi\nLüks Gala Gecesi / Festival Partisi katılımı (pakete göre)\nLérins Adaları veya Nice – Monaco Riviera özel gezi seçeneği\nLimanda demirlemiş lüks yatların festival şovunu izleme imkânı\nVeloria-Club üyelerine özel butik grup (maks. 10–14 kişi)\nProfesyonel fotoğraf & video çekimi\nPremium restoranlarda rezervasyon desteği\n\n\n📆 GÜN GÜN PROGRAM\n\n1. Gün – Cannes’a Varış & Lüks Hoş Geldiniz Karşılama\n• Nice Havalimanı’nda VIP karşılama\nVeloria-Club temsilcimiz sizi kapıda karşılar; özel araç ile Cannes’daki 5★ otelinize transfer. \n• Check-in & Hoş Geldiniz İkramı\nDeniz manzaralı lobi barında şampanya eşliğinde karşılama. \n• Croisette Boyunca Tanıtım Yürüyüşü\nRehberiniz eşliğinde: \n\nKırmızı Halı & Festival Sarayı (Palais des Festivals)\nÜnlü markaların festival vitrinleri\nLüks oteller bölgesi (Martinez – Carlton – Majestic)\n\n• Akşam: Hafif Karşılama Yemeği\nRiviera mutfağından seçkiler ile tanışma akşamı.\n(Sofra içeriği: deniz mahsulleri\, Provence şarapları\, gurme tabaklar) \nGece Serbest: Festivalin ilk ışıkları\, kırmızı halı hazırlıkları ve şehrin canlı atmosferi. \n\n2. Gün – Cannes Film Festivali Atmosferi & Kırmızı Halı Deneyimi\n• Otelde Lüks Kahvaltı \n• Festival Alanı ve Kırmızı Halı Rotası\nRehberinizle birlikte festival sarayı etrafında gezinti:\nÜnlülerin geliş noktaları\, basın alanları\, röportaj noktaları\, fotoğrafçı tüneli… \n• Croisette Sahilinde Serbest Zaman\nÜnlülerin sıkça görüldüğü restoranlar ve kafe teraslarında vakit geçirme fırsatı.\n(Messi\, Spielberg\, Margot Robbie\, Tom Cruise gibi isimler çoğu yıl bu bölgede görülür.) \n• Özel Fotoğraf Çekimi\nProfesyonel fotoğrafçı eşliğinde kırmızı halı önünde hatıra fotoğrafı. \n• Öğleden sonra: Lüks Plaj Club Deneyimi\nFestival boyunca yalnızca davetlilere açık özel beach club girişi (pakete göre). \n• Akşam: Festival Gösterimi / Gala Katılımı (Paket Seçeneğine Bağlı) \n\nGala gecesi elbisesi / smoking tavsiyesi\nFestival sarayında kırmızı halı atmosferini yakından gözlemleme\nGösterim veya after-party katılımı (pakete göre)\n\nGece: Cannes sokaklarında festival kutlamaları\, canlı müzik ve jet-set atmosferi. \n\n3. Gün – VIP Riviera Gezisi & Festival Partisi\n• Lüks Kahvaltı ve Serbest Sabah\nOtel spası\, plaj erişimi veya alışveriş imkânı. \n\n🔸 Seçenek A: Lérins Adaları Özel Tekne Turu\n\nSainte-Marguerite Adası’nda doğa yürüyüşleri\nSaint-Honorât Adası’nda manastır şarap tadımı\nTurkuaz koylarda yüzme molası\n\n🔸 Seçenek B: Nice – Monaco – Èze VIP Riviera Turu\n\nNice panoramik gezi (Promenade des Anglais)\nEfsanevi Monte-Carlo Casino ziyareti\nÈze köyünde parfüm fabrikası ziyareti\n\n\n• Akşam: VIP Festival Partisi\n(Seçilen pakete göre festival dönemi özel partilerinden biri) \n\nLüks sahil otellerinin festival partileri\nDJ performansları\nÜnlü misafirlerin katılım gösterdiği alanlar\nProfesyonel fotoğraf & video çekimi\n\n\n4. Gün – Cannes’a Veda & Dönüş\n• Son Kahvaltı – Serbest Zaman\nCroisette üzerinde son yürüyüş\, alışveriş veya deniz kenarında keyif kahvesi. \n• VIP Transfer ile Havalimanına Gidiş \nVeloria-Club ayrıcalığıyla\, kırmızı halının büyüsünü ve Cannes’ın lüks atmosferini yaşayarak unutulmaz anılarla Fransa’dan ayrılıyorsunuz. \n\n🛏️ KONAKLAMA\nVeloria-Club seçkisiyle: \n\n5★ Martinez / Carlton / Majestic serisi oteller\nDeniz veya Croisette manzaralı odalar\nSpa\, özel plaj ve premium hizmet erişimi\n\nOda kategorileri: Superior – Deluxe – Junior Suite (müsaitliğe göre). \n\n💼 FİYATA DAHİL OLANLAR\n\n3 gece 5★ otelde konaklama\nGünlük lüks kahvaltı\nNice – Cannes arası VIP transferler\nFestival bölgesi rehberliği\nKırmızı halı fotoğraf çekimi\nRiviera günü programı (A veya B seçenekleri)\nVeloria-Club profesyonel tur hostesi\nFestival dönemi concierge desteği\n\n\n❌ FİYATA DAHİL OLMAYANLAR\n\nUçak biletleri\nÖğle ve akşam yemekleri (özel etkinlikler hariç)\nGala gösterimi / after-party biletleri (pakete göre ek ücretli)\nKişisel harcamalar\nVize ücreti\nSeyahat sağlık sigortası\n\n\n🌟 Neden Veloria-Club Cannes Film Festivali VIP Turu?\n\nKüçük butik grup ayrıcalığı\nLüks yaşam tarzı odaklı programlar\nFestival boyunca özel rehberlik\nÜnlülere en yakın atmosfer\nSınırlı kontenjan ile elit bir deneyim\nProfesyonel fotoğraf & video anı paketi\nÖmür boyu hatırlanacak bir festival yolculuğu
URL:https://veloria.tezeren.net/index.php/event/vip-cannes-film-festivali-butik-gezisi-2026-cannes/
LOCATION:Istanbul
CATEGORIES:Gezi & Seyahat,Kültür & Sanat,Yemek & Eğlence
ATTACH;FMTTYPE=image/png:https://veloria.tezeren.net/wp-content/uploads/2025/12/tezeren_Cannes_Film_Festival_red_carpet_glamorous_gowns_tuxed_5694643d-e08c-43ee-a277-b6a5f1db504e_3.png
END:VEVENT
END:VCALENDAR